BEGIN:VCALENDAR
PRODID:-//Microsoft Corporation//Outlook 12.0 MIMEDIR//EN
VERSION:2.0
CALSCALE:GREGORIAN
BEGIN:VEVENT
UID: 31af6b17-0263-4f85-b51a-e36ec83254bf
SUMMARY:Reaalainete nädal
DTSTAMP:20201030
DTSTART:20201030
DTEND:20201105
DURATION:P6D
LOCATION:
DESCRIPTION: <p><strong>Link: </strong>https://www.nrg.edu.ee/et/sundmuste-kalender/reaalainete-nadal-1</p><p><strong>Hind: </strong></p>
STATUS:CONFIRMED
SEQUENCE:3
X-ALT-DESC;FMTTYPE=text/html:<p><strong>Link: </strong>https://www.nrg.edu.ee/et/sundmuste-kalender/reaalainete-nadal-1</p><p><strong>Hind: </strong></p>
X-MICROSOFT-CDO-BUSYSTATUS:OOF
X-MICROSOFT-CDO-IMPORTANCE:1
X-MICROSOFT-DISALLOW-COUNTER:FALSE
X-MS-OLK-ALLOWEXTERNCHECK:TRUE
X-MS-OLK-CONFTYPE:0
X-MICROSOFT-CDO-ALLDAYEVENT:1
X-MICROSOFT-MSNCALENDAR-ALLDAYEVENT:1
END:VEVENT
END:VCALENDAR